   BEGIN:VCALENDAR
VERSION:2.0
PRODID:-//Handale Primary - ECPv6.15.20//NONSGML v1.0//EN
CALSCALE:GREGORIAN
METHOD:PUBLISH
X-WR-CALNAME:Handale Primary
X-ORIGINAL-URL:https://www.handaleprimary.co.uk
X-WR-CALDESC:Events for Handale Primary
REFRESH-INTERVAL;VALUE=DURATION:PT1H
X-Robots-Tag:noindex
X-PUBLISHED-TTL:PT1H
BEGIN:VTIMEZONE
TZID:Europe/London
BEGIN:DAYLIGHT
TZOFFSETFROM:+0000
TZOFFSETTO:+0100
TZNAME:BST
DTSTART:20220327T010000
END:DAYLIGHT
BEGIN:STANDARD
TZOFFSETFROM:+0100
TZOFFSETTO:+0000
TZNAME:GMT
DTSTART:20221030T010000
END:STANDARD
BEGIN:DAYLIGHT
TZOFFSETFROM:+0000
TZOFFSETTO:+0100
TZNAME:BST
DTSTART:20230326T010000
END:DAYLIGHT
BEGIN:STANDARD
TZOFFSETFROM:+0100
TZOFFSETTO:+0000
TZNAME:GMT
DTSTART:20231029T010000
END:STANDARD
BEGIN:DAYLIGHT
TZOFFSETFROM:+0000
TZOFFSETTO:+0100
TZNAME:BST
DTSTART:20240331T010000
END:DAYLIGHT
BEGIN:STANDARD
TZOFFSETFROM:+0100
TZOFFSETTO:+0000
TZNAME:GMT
DTSTART:20241027T010000
END:STANDARD
END:VTIMEZONE
BEGIN:VEVENT
DTSTART;VALUE=DATE:20231214
DTEND;VALUE=DATE:20231215
DTSTAMP:20260421T005126
CREATED:20231127T143532Z
LAST-MODIFIED:20231127T143532Z
UID:25723-1702512000-1702598399@www.handaleprimary.co.uk
SUMMARY:Christmas Dinner in School -  Christmas jumper day
DESCRIPTION:
URL:https://www.handaleprimary.co.uk/event/christmas-dinner-in-school-christmas-jumper-day/
END:VEVENT
BEGIN:VEVENT
DTSTART;TZID=Europe/London:20231214T163000
DTEND;TZID=Europe/London:20231214T183000
DTSTAMP:20260421T005126
CREATED:20231127T143618Z
LAST-MODIFIED:20231127T143618Z
UID:25725-1702571400-1702578600@www.handaleprimary.co.uk
SUMMARY:Friends of Handale Bingo Event
DESCRIPTION:
URL:https://www.handaleprimary.co.uk/event/friends-of-handale-bingo-event/
END:VEVENT
END:VCALENDAR