   BEGIN:VCALENDAR
VERSION:2.0
PRODID:-//Handale Primary - ECPv6.15.20//NONSGML v1.0//EN
CALSCALE:GREGORIAN
METHOD:PUBLISH
X-WR-CALNAME:Handale Primary
X-ORIGINAL-URL:https://www.handaleprimary.co.uk
X-WR-CALDESC:Events for Handale Primary
REFRESH-INTERVAL;VALUE=DURATION:PT1H
X-Robots-Tag:noindex
X-PUBLISHED-TTL:PT1H
BEGIN:VTIMEZONE
TZID:Europe/London
BEGIN:DAYLIGHT
TZOFFSETFROM:+0000
TZOFFSETTO:+0100
TZNAME:BST
DTSTART:20220327T010000
END:DAYLIGHT
BEGIN:STANDARD
TZOFFSETFROM:+0100
TZOFFSETTO:+0000
TZNAME:GMT
DTSTART:20221030T010000
END:STANDARD
BEGIN:DAYLIGHT
TZOFFSETFROM:+0000
TZOFFSETTO:+0100
TZNAME:BST
DTSTART:20230326T010000
END:DAYLIGHT
BEGIN:STANDARD
TZOFFSETFROM:+0100
TZOFFSETTO:+0000
TZNAME:GMT
DTSTART:20231029T010000
END:STANDARD
BEGIN:DAYLIGHT
TZOFFSETFROM:+0000
TZOFFSETTO:+0100
TZNAME:BST
DTSTART:20240331T010000
END:DAYLIGHT
BEGIN:STANDARD
TZOFFSETFROM:+0100
TZOFFSETTO:+0000
TZNAME:GMT
DTSTART:20241027T010000
END:STANDARD
BEGIN:DAYLIGHT
TZOFFSETFROM:+0000
TZOFFSETTO:+0100
TZNAME:BST
DTSTART:20250330T010000
END:DAYLIGHT
BEGIN:STANDARD
TZOFFSETFROM:+0100
TZOFFSETTO:+0000
TZNAME:GMT
DTSTART:20251026T010000
END:STANDARD
END:VTIMEZONE
BEGIN:VEVENT
DTSTART;TZID=Europe/London:20241111T143000
DTEND;TZID=Europe/London:20241111T150000
DTSTAMP:20260420T073532
CREATED:20241003T150221Z
LAST-MODIFIED:20241003T150221Z
UID:26406-1731335400-1731337200@www.handaleprimary.co.uk
SUMMARY:Year 6 class assembly
DESCRIPTION:Parent welcome to join us.
URL:https://www.handaleprimary.co.uk/event/year-6-class-assembly/
END:VEVENT
BEGIN:VEVENT
DTSTART;VALUE=DATE:20241104
DTEND;VALUE=DATE:20241105
DTSTAMP:20260420T073532
CREATED:20241003T151729Z
LAST-MODIFIED:20241003T151729Z
UID:26438-1730678400-1730764799@www.handaleprimary.co.uk
SUMMARY:PD day school closed
DESCRIPTION:
URL:https://www.handaleprimary.co.uk/event/pd-day-school-closed/
END:VEVENT
BEGIN:VEVENT
DTSTART;VALUE=DATE:20241028
DTEND;VALUE=DATE:20241102
DTSTAMP:20260420T073532
CREATED:20241003T151935Z
LAST-MODIFIED:20241003T151935Z
UID:26446-1730073600-1730505599@www.handaleprimary.co.uk
SUMMARY:October Half Term Pupils off school
DESCRIPTION:
URL:https://www.handaleprimary.co.uk/event/october-half-term-pupils-off-school/
END:VEVENT
BEGIN:VEVENT
DTSTART;TZID=Europe/London:20241023T153000
DTEND;TZID=Europe/London:20241023T173000
DTSTAMP:20260420T073532
CREATED:20241003T150741Z
LAST-MODIFIED:20241003T150741Z
UID:26422-1729697400-1729704600@www.handaleprimary.co.uk
SUMMARY:Halloween Disco
DESCRIPTION:Rec – Year 2 followed by Y3-Y5
URL:https://www.handaleprimary.co.uk/event/halloween-disco/
END:VEVENT
BEGIN:VEVENT
DTSTART;TZID=Europe/London:20241022T153000
DTEND;TZID=Europe/London:20241022T163000
DTSTAMP:20260420T073532
CREATED:20241003T145429Z
LAST-MODIFIED:20241003T145429Z
UID:26384-1729611000-1729614600@www.handaleprimary.co.uk
SUMMARY:Parents Evening
DESCRIPTION:
URL:https://www.handaleprimary.co.uk/event/parents-evening-2/
END:VEVENT
BEGIN:VEVENT
DTSTART;TZID=Europe/London:20241021T153000
DTEND;TZID=Europe/London:20241021T173000
DTSTAMP:20260420T073532
CREATED:20241003T145359Z
LAST-MODIFIED:20241003T145359Z
UID:26382-1729524600-1729531800@www.handaleprimary.co.uk
SUMMARY:Parents Evening
DESCRIPTION:
URL:https://www.handaleprimary.co.uk/event/parents-evening/
END:VEVENT
BEGIN:VEVENT
DTSTART;VALUE=DATE:20241018
DTEND;VALUE=DATE:20241019
DTSTAMP:20260420T073532
CREATED:20241003T145128Z
LAST-MODIFIED:20241003T145128Z
UID:26378-1729209600-1729295999@www.handaleprimary.co.uk
SUMMARY:Show Racism the Red Card
DESCRIPTION:Children can wear red to school
URL:https://www.handaleprimary.co.uk/event/show-racism-the-red-card/
END:VEVENT
BEGIN:VEVENT
DTSTART;VALUE=DATE:20241010
DTEND;VALUE=DATE:20241011
DTSTAMP:20260420T073532
CREATED:20241003T145039Z
LAST-MODIFIED:20241003T145039Z
UID:26376-1728518400-1728604799@www.handaleprimary.co.uk
SUMMARY:Mental Health Day
DESCRIPTION:Wear Yellow for school
URL:https://www.handaleprimary.co.uk/event/mental-health-day/
END:VEVENT
BEGIN:VEVENT
DTSTART;TZID=Europe/London:20241004T090000
DTEND;TZID=Europe/London:20241004T110000
DTSTAMP:20260420T073532
CREATED:20241003T145323Z
LAST-MODIFIED:20241003T145323Z
UID:26380-1728032400-1728039600@www.handaleprimary.co.uk
SUMMARY:Friends of Handale Coffee morning
DESCRIPTION:Fundraising for Teesside Hospice in memory of Emma Matthews\, well loved parent.
URL:https://www.handaleprimary.co.uk/event/friends-of-handale-coffee-morning/
END:VEVENT
BEGIN:VEVENT
DTSTART;VALUE=DATE:20240722
DTEND;VALUE=DATE:20240723
DTSTAMP:20260420T073532
CREATED:20231127T153821Z
LAST-MODIFIED:20231127T153821Z
UID:25767-1721606400-1721692799@www.handaleprimary.co.uk
SUMMARY:PD Day
DESCRIPTION:
URL:https://www.handaleprimary.co.uk/event/pd-day-3/
END:VEVENT
BEGIN:VEVENT
DTSTART;TZID=Europe/London:20240613T143000
DTEND;TZID=Europe/London:20240613T150000
DTSTAMP:20260420T073532
CREATED:20231127T144533Z
LAST-MODIFIED:20231127T144533Z
UID:25743-1718289000-1718290800@www.handaleprimary.co.uk
SUMMARY:Year Reception Class assembly - parents invited
DESCRIPTION:
URL:https://www.handaleprimary.co.uk/event/year-reception-class-assembly-parents-invited/
END:VEVENT
BEGIN:VEVENT
DTSTART;VALUE=DATE:20240527
DTEND;VALUE=DATE:20240601
DTSTAMP:20260420T073532
CREATED:20231127T153728Z
LAST-MODIFIED:20231127T153728Z
UID:25765-1716768000-1717199999@www.handaleprimary.co.uk
SUMMARY:May Half Term
DESCRIPTION:
URL:https://www.handaleprimary.co.uk/event/may-half-term/
END:VEVENT
BEGIN:VEVENT
DTSTART;TZID=Europe/London:20240523T143000
DTEND;TZID=Europe/London:20240523T150000
DTSTAMP:20260420T073532
CREATED:20231127T144236Z
LAST-MODIFIED:20231127T144236Z
UID:25733-1716474600-1716476400@www.handaleprimary.co.uk
SUMMARY:Year 5 Class assembly - parents invited
DESCRIPTION:
URL:https://www.handaleprimary.co.uk/event/year-5-class-assembly-parents-invited/
END:VEVENT
BEGIN:VEVENT
DTSTART;VALUE=DATE:20240506
DTEND;VALUE=DATE:20240507
DTSTAMP:20260420T073532
CREATED:20231127T153649Z
LAST-MODIFIED:20231127T153649Z
UID:25763-1714953600-1715039999@www.handaleprimary.co.uk
SUMMARY:Bank Holiday
DESCRIPTION:
URL:https://www.handaleprimary.co.uk/event/bank-holiday/
END:VEVENT
BEGIN:VEVENT
DTSTART;TZID=Europe/London:20240425T143000
DTEND;TZID=Europe/London:20240425T150000
DTSTAMP:20260420T073532
CREATED:20231127T144307Z
LAST-MODIFIED:20231127T144307Z
UID:25735-1714055400-1714057200@www.handaleprimary.co.uk
SUMMARY:Year 4 Class assembly - parents invited
DESCRIPTION:
URL:https://www.handaleprimary.co.uk/event/year-4-class-assembly-parents-invited/
END:VEVENT
BEGIN:VEVENT
DTSTART;VALUE=DATE:20240325
DTEND;VALUE=DATE:20240406
DTSTAMP:20260420T073532
CREATED:20231127T153536Z
LAST-MODIFIED:20231127T153536Z
UID:25761-1711324800-1712361599@www.handaleprimary.co.uk
SUMMARY:Easter Holidays
DESCRIPTION:
URL:https://www.handaleprimary.co.uk/event/easter-holidays/
END:VEVENT
BEGIN:VEVENT
DTSTART;VALUE=DATE:20240322
DTEND;VALUE=DATE:20240323
DTSTAMP:20260420T073532
CREATED:20231127T153455Z
LAST-MODIFIED:20231127T153455Z
UID:25759-1711065600-1711151999@www.handaleprimary.co.uk
SUMMARY:PD Day
DESCRIPTION:
URL:https://www.handaleprimary.co.uk/event/pd-day-2/
END:VEVENT
BEGIN:VEVENT
DTSTART;TZID=Europe/London:20240321T143000
DTEND;TZID=Europe/London:20240321T150000
DTSTAMP:20260420T073532
CREATED:20231127T144457Z
LAST-MODIFIED:20231127T144457Z
UID:25741-1711031400-1711033200@www.handaleprimary.co.uk
SUMMARY:Year 1 Class assembly - parents invited
DESCRIPTION:
URL:https://www.handaleprimary.co.uk/event/year-1-class-assembly-parents-invited/
END:VEVENT
BEGIN:VEVENT
DTSTART;TZID=Europe/London:20240212T080000
DTEND;TZID=Europe/London:20240216T170000
DTSTAMP:20260420T073532
CREATED:20231127T153405Z
LAST-MODIFIED:20231127T153405Z
UID:25757-1707724800-1708102800@www.handaleprimary.co.uk
SUMMARY:February Half Term
DESCRIPTION:
URL:https://www.handaleprimary.co.uk/event/february-half-term/
END:VEVENT
BEGIN:VEVENT
DTSTART;TZID=Europe/London:20240202T143000
DTEND;TZID=Europe/London:20240202T150000
DTSTAMP:20260420T073532
CREATED:20231127T144425Z
LAST-MODIFIED:20231127T144425Z
UID:25739-1706884200-1706886000@www.handaleprimary.co.uk
SUMMARY:Year 2 Class assembly - parents invited
DESCRIPTION:
URL:https://www.handaleprimary.co.uk/event/year-2-class-assembly-parents-invited/
END:VEVENT
BEGIN:VEVENT
DTSTART;TZID=Europe/London:20240118T143000
DTEND;TZID=Europe/London:20240118T150000
DTSTAMP:20260420T073532
CREATED:20231127T144342Z
LAST-MODIFIED:20231127T144342Z
UID:25737-1705588200-1705590000@www.handaleprimary.co.uk
SUMMARY:Year 3 Class assembly - parents invited
DESCRIPTION:
URL:https://www.handaleprimary.co.uk/event/year-3-class-assembly-parents-invited/
END:VEVENT
BEGIN:VEVENT
DTSTART;VALUE=DATE:20240108
DTEND;VALUE=DATE:20240109
DTSTAMP:20260420T073532
CREATED:20231127T153331Z
LAST-MODIFIED:20231127T153331Z
UID:25755-1704672000-1704758399@www.handaleprimary.co.uk
SUMMARY:PD Day
DESCRIPTION:
URL:https://www.handaleprimary.co.uk/event/pd-day/
END:VEVENT
BEGIN:VEVENT
DTSTART;TZID=Europe/London:20231225T080000
DTEND;TZID=Europe/London:20240105T170000
DTSTAMP:20260420T073532
CREATED:20231127T144951Z
LAST-MODIFIED:20231127T144951Z
UID:25753-1703491200-1704474000@www.handaleprimary.co.uk
SUMMARY:Christmas Holidays
DESCRIPTION:
URL:https://www.handaleprimary.co.uk/event/christmas-holidays/
END:VEVENT
BEGIN:VEVENT
DTSTART;VALUE=DATE:20231221
DTEND;VALUE=DATE:20231222
DTSTAMP:20260420T073532
CREATED:20231127T144137Z
LAST-MODIFIED:20231127T144137Z
UID:25731-1703116800-1703203199@www.handaleprimary.co.uk
SUMMARY:Year 5 and Year6 Christmas Party
DESCRIPTION:children can come to school in their party clothes
URL:https://www.handaleprimary.co.uk/event/year-5-and-year6-christmas-party/
END:VEVENT
BEGIN:VEVENT
DTSTART;TZID=Europe/London:20231220T103000
DTEND;TZID=Europe/London:20231220T120000
DTSTAMP:20260420T073532
CREATED:20231127T144858Z
LAST-MODIFIED:20231127T144858Z
UID:25751-1703068200-1703073600@www.handaleprimary.co.uk
SUMMARY:Year 5 and Year 6 Christmas Performance
DESCRIPTION:To be held in St Leonard’s Church in Loftus – Year 5 and Year 6 parents invited.
URL:https://www.handaleprimary.co.uk/event/year-5-and-year-6-christmas-performance/
END:VEVENT
BEGIN:VEVENT
DTSTART;VALUE=DATE:20231220
DTEND;VALUE=DATE:20231221
DTSTAMP:20260420T073532
CREATED:20231127T144104Z
LAST-MODIFIED:20231127T144104Z
UID:25729-1703030400-1703116799@www.handaleprimary.co.uk
SUMMARY:Nursery Christmas Party
DESCRIPTION:children can come to school in their party clothes
URL:https://www.handaleprimary.co.uk/event/nursery-christmas-party/
END:VEVENT
BEGIN:VEVENT
DTSTART;TZID=Europe/London:20231219T140000
DTEND;TZID=Europe/London:20231219T150000
DTSTAMP:20260420T073532
CREATED:20231127T144740Z
LAST-MODIFIED:20231127T144740Z
UID:25749-1702994400-1702998000@www.handaleprimary.co.uk
SUMMARY:Year 3 and Year 4 Christmas Performance
DESCRIPTION:
URL:https://www.handaleprimary.co.uk/event/year-3-and-year-4-christmas-performance/
END:VEVENT
BEGIN:VEVENT
DTSTART;TZID=Europe/London:20231219T093000
DTEND;TZID=Europe/London:20231219T103000
DTSTAMP:20260420T073532
CREATED:20231127T144703Z
LAST-MODIFIED:20231127T144703Z
UID:25747-1702978200-1702981800@www.handaleprimary.co.uk
SUMMARY:Year 1 and Year 2 Christmas Performance
DESCRIPTION:
URL:https://www.handaleprimary.co.uk/event/year-1-and-year-2-christmas-performance/
END:VEVENT
BEGIN:VEVENT
DTSTART;TZID=Europe/London:20231218T100000
DTEND;TZID=Europe/London:20231218T110000
DTSTAMP:20260420T073532
CREATED:20231127T144631Z
LAST-MODIFIED:20231127T144631Z
UID:25745-1702893600-1702897200@www.handaleprimary.co.uk
SUMMARY:Nursery and Reception Christmas Performance
DESCRIPTION:
URL:https://www.handaleprimary.co.uk/event/nursery-and-reception-christmas-performance/
END:VEVENT
BEGIN:VEVENT
DTSTART;VALUE=DATE:20231218
DTEND;VALUE=DATE:20231219
DTSTAMP:20260420T073532
CREATED:20231127T144026Z
LAST-MODIFIED:20231127T144026Z
UID:25727-1702857600-1702943999@www.handaleprimary.co.uk
SUMMARY:Year 1\, 2\, 3 and 4 Christmas Party
DESCRIPTION:children can come to school in their party clothes
URL:https://www.handaleprimary.co.uk/event/year-1-2-3-and-4-christmas-party/
END:VEVENT
END:VCALENDAR