   BEGIN:VCALENDAR
VERSION:2.0
PRODID:-//Handale Primary - ECPv6.15.20//NONSGML v1.0//EN
CALSCALE:GREGORIAN
METHOD:PUBLISH
X-ORIGINAL-URL:https://www.handaleprimary.co.uk
X-WR-CALDESC:Events for Handale Primary
REFRESH-INTERVAL;VALUE=DURATION:PT1H
X-Robots-Tag:noindex
X-PUBLISHED-TTL:PT1H
BEGIN:VTIMEZONE
TZID:Europe/London
BEGIN:DAYLIGHT
TZOFFSETFROM:+0000
TZOFFSETTO:+0100
TZNAME:BST
DTSTART:20240331T010000
END:DAYLIGHT
BEGIN:STANDARD
TZOFFSETFROM:+0100
TZOFFSETTO:+0000
TZNAME:GMT
DTSTART:20241027T010000
END:STANDARD
BEGIN:DAYLIGHT
TZOFFSETFROM:+0000
TZOFFSETTO:+0100
TZNAME:BST
DTSTART:20250330T010000
END:DAYLIGHT
BEGIN:STANDARD
TZOFFSETFROM:+0100
TZOFFSETTO:+0000
TZNAME:GMT
DTSTART:20251026T010000
END:STANDARD
BEGIN:DAYLIGHT
TZOFFSETFROM:+0000
TZOFFSETTO:+0100
TZNAME:BST
DTSTART:20260329T010000
END:DAYLIGHT
BEGIN:STANDARD
TZOFFSETFROM:+0100
TZOFFSETTO:+0000
TZNAME:GMT
DTSTART:20261025T010000
END:STANDARD
END:VTIMEZONE
BEGIN:VEVENT
DTSTART;TZID=Europe/London:20250212T153000
DTEND;TZID=Europe/London:20250212T180000
DTSTAMP:20260420T073613
CREATED:20241003T151156Z
LAST-MODIFIED:20241003T151156Z
UID:26428-1739374200-1739383200@www.handaleprimary.co.uk
SUMMARY:Valentines Disco
DESCRIPTION:
URL:https://www.handaleprimary.co.uk/event/valentines-disco/
END:VEVENT
BEGIN:VEVENT
DTSTART;TZID=Europe/London:20250217T153000
DTEND;TZID=Europe/London:20250217T170000
DTSTAMP:20260420T073613
CREATED:20241003T145503Z
LAST-MODIFIED:20250106T194724Z
UID:26386-1739806200-1739811600@www.handaleprimary.co.uk
SUMMARY:Parents Evening
DESCRIPTION:
URL:https://www.handaleprimary.co.uk/event/parents-evening-3/
END:VEVENT
BEGIN:VEVENT
DTSTART;TZID=Europe/London:20250219T130000
DTEND;TZID=Europe/London:20250219T153000
DTSTAMP:20260420T073613
CREATED:20241003T145642Z
LAST-MODIFIED:20250113T141816Z
UID:26390-1739970000-1739979000@www.handaleprimary.co.uk
SUMMARY:Parents Evening
DESCRIPTION:
URL:https://www.handaleprimary.co.uk/event/parents-evening-y4-y6/
END:VEVENT
BEGIN:VEVENT
DTSTART;TZID=Europe/London:20250220T143000
DTEND;TZID=Europe/London:20250220T150000
DTSTAMP:20260420T073613
CREATED:20241003T150337Z
LAST-MODIFIED:20241003T150337Z
UID:26410-1740061800-1740063600@www.handaleprimary.co.uk
SUMMARY:Year 4 class assembly
DESCRIPTION:Parents welcome to attend
URL:https://www.handaleprimary.co.uk/event/year-4-class-assembly/
END:VEVENT
BEGIN:VEVENT
DTSTART;VALUE=DATE:20250224
DTEND;VALUE=DATE:20250301
DTSTAMP:20260420T073613
CREATED:20241003T152354Z
LAST-MODIFIED:20241003T152354Z
UID:26450-1740355200-1740787199@www.handaleprimary.co.uk
SUMMARY:February Half Term Pupil not in school
DESCRIPTION:
URL:https://www.handaleprimary.co.uk/event/february-half-term-pupil-not-in-school/
END:VEVENT
BEGIN:VEVENT
DTSTART;VALUE=DATE:20250303
DTEND;VALUE=DATE:20250304
DTSTAMP:20260420T073613
CREATED:20241003T151817Z
LAST-MODIFIED:20241003T151818Z
UID:26442-1740960000-1741046399@www.handaleprimary.co.uk
SUMMARY:PD day school closed
DESCRIPTION:
URL:https://www.handaleprimary.co.uk/event/pd-day-school-closed-3/
END:VEVENT
BEGIN:VEVENT
DTSTART;TZID=Europe/London:20250327T143000
DTEND;TZID=Europe/London:20250327T150000
DTSTAMP:20260420T073613
CREATED:20241003T150414Z
LAST-MODIFIED:20241003T150414Z
UID:26412-1743085800-1743087600@www.handaleprimary.co.uk
SUMMARY:Year 3 class assembly
DESCRIPTION:Parents welcome to attend
URL:https://www.handaleprimary.co.uk/event/year-3-class-assembly/
END:VEVENT
BEGIN:VEVENT
DTSTART;TZID=Europe/London:20250409T170000
DTEND;TZID=Europe/London:20250409T190000
DTSTAMP:20260420T073613
CREATED:20241003T151235Z
LAST-MODIFIED:20241003T151235Z
UID:26430-1744218000-1744225200@www.handaleprimary.co.uk
SUMMARY:Easter Bingo
DESCRIPTION:
URL:https://www.handaleprimary.co.uk/event/easter-bingo/
END:VEVENT
BEGIN:VEVENT
DTSTART;VALUE=DATE:20250414
DTEND;VALUE=DATE:20250426
DTSTAMP:20260420T073613
CREATED:20241003T152428Z
LAST-MODIFIED:20241003T152428Z
UID:26452-1744588800-1745625599@www.handaleprimary.co.uk
SUMMARY:Easter Holidays Pupils not in school
DESCRIPTION:
URL:https://www.handaleprimary.co.uk/event/easter-holidays-pupils-not-in-school/
END:VEVENT
BEGIN:VEVENT
DTSTART;TZID=Europe/London:20250516T150000
DTEND;TZID=Europe/London:20250516T160000
DTSTAMP:20260420T073613
CREATED:20241003T151306Z
LAST-MODIFIED:20241003T151306Z
UID:26432-1747407600-1747411200@www.handaleprimary.co.uk
SUMMARY:Cake Sale
DESCRIPTION:
URL:https://www.handaleprimary.co.uk/event/cake-sale/
END:VEVENT
BEGIN:VEVENT
DTSTART;TZID=Europe/London:20250522T143000
DTEND;TZID=Europe/London:20250522T150000
DTSTAMP:20260420T073613
CREATED:20241003T150502Z
LAST-MODIFIED:20241003T150502Z
UID:26414-1747924200-1747926000@www.handaleprimary.co.uk
SUMMARY:Year 2 class assembly
DESCRIPTION:Parent welcome to attend
URL:https://www.handaleprimary.co.uk/event/year-2-class-assembly/
END:VEVENT
BEGIN:VEVENT
DTSTART;VALUE=DATE:20250526
DTEND;VALUE=DATE:20250531
DTSTAMP:20260420T073613
CREATED:20241003T152502Z
LAST-MODIFIED:20241003T152502Z
UID:26454-1748217600-1748649599@www.handaleprimary.co.uk
SUMMARY:May Half term pupils not in school
DESCRIPTION:
URL:https://www.handaleprimary.co.uk/event/may-half-term-pupils-not-in-school/
END:VEVENT
BEGIN:VEVENT
DTSTART;TZID=Europe/London:20250612T143000
DTEND;TZID=Europe/London:20250612T150000
DTSTAMP:20260420T073613
CREATED:20241003T150547Z
LAST-MODIFIED:20241003T150547Z
UID:26416-1749738600-1749740400@www.handaleprimary.co.uk
SUMMARY:Year 1 class assembly
DESCRIPTION:Parents welcome to attend.
URL:https://www.handaleprimary.co.uk/event/year-1-class-assembly/
END:VEVENT
BEGIN:VEVENT
DTSTART;TZID=Europe/London:20250626T143000
DTEND;TZID=Europe/London:20250626T150000
DTSTAMP:20260420T073613
CREATED:20241003T150618Z
LAST-MODIFIED:20241003T150618Z
UID:26418-1750948200-1750950000@www.handaleprimary.co.uk
SUMMARY:Reception Class Assembly
DESCRIPTION:
URL:https://www.handaleprimary.co.uk/event/reception-class-assembly-2/
END:VEVENT
BEGIN:VEVENT
DTSTART;TZID=Europe/London:20250704T133000
DTEND;TZID=Europe/London:20250704T153000
DTSTAMP:20260420T073613
CREATED:20241003T151345Z
LAST-MODIFIED:20241003T151345Z
UID:26434-1751635800-1751643000@www.handaleprimary.co.uk
SUMMARY:Colour Run
DESCRIPTION:
URL:https://www.handaleprimary.co.uk/event/colour-run/
END:VEVENT
BEGIN:VEVENT
DTSTART;TZID=Europe/London:20250710T143000
DTEND;TZID=Europe/London:20250710T150000
DTSTAMP:20260420T073613
CREATED:20241003T150645Z
LAST-MODIFIED:20241003T150645Z
UID:26420-1752157800-1752159600@www.handaleprimary.co.uk
SUMMARY:Nursery Class Assembly
DESCRIPTION:
URL:https://www.handaleprimary.co.uk/event/nursery-class-assembly/
END:VEVENT
BEGIN:VEVENT
DTSTART;TZID=Europe/London:20250715T133000
DTEND;TZID=Europe/London:20250715T160000
DTSTAMP:20260420T073613
CREATED:20241003T151431Z
LAST-MODIFIED:20241003T151431Z
UID:26436-1752586200-1752595200@www.handaleprimary.co.uk
SUMMARY:Summer Fair
DESCRIPTION:
URL:https://www.handaleprimary.co.uk/event/summer-fair-2/
END:VEVENT
BEGIN:VEVENT
DTSTART;VALUE=DATE:20250721
DTEND;VALUE=DATE:20250722
DTSTAMP:20260420T073613
CREATED:20241003T151842Z
LAST-MODIFIED:20241003T151842Z
UID:26444-1753056000-1753142399@www.handaleprimary.co.uk
SUMMARY:PD Day school closed
DESCRIPTION:
URL:https://www.handaleprimary.co.uk/event/pd-day-school-closed-4/
END:VEVENT
BEGIN:VEVENT
DTSTART;TZID=Europe/London:20250903T090000
DTEND;TZID=Europe/London:20250903T123000
DTSTAMP:20260420T073613
CREATED:20250903T193415Z
LAST-MODIFIED:20250903T193415Z
UID:26884-1756890000-1756902600@www.handaleprimary.co.uk
SUMMARY:Year 1 Scavenger Hunt Spirit of the Games OAA
DESCRIPTION:
URL:https://www.handaleprimary.co.uk/event/year-1-scavenger-hunt-spirit-of-the-games-oaa/
END:VEVENT
BEGIN:VEVENT
DTSTART;TZID=Europe/London:20250911T081500
DTEND;TZID=Europe/London:20250911T084500
DTSTAMP:20260420T073613
CREATED:20250903T192537Z
LAST-MODIFIED:20250903T192537Z
UID:26869-1757578500-1757580300@www.handaleprimary.co.uk
SUMMARY:Books for Breakfast EYFS and Year 1
DESCRIPTION:Parents and children are invited to attend our session from 08:15pm
URL:https://www.handaleprimary.co.uk/event/books-for-breakfast-eyfs-and-year-1/
END:VEVENT
BEGIN:VEVENT
DTSTART;TZID=Europe/London:20250916T081500
DTEND;TZID=Europe/London:20250916T084500
DTSTAMP:20260420T073613
CREATED:20250903T192954Z
LAST-MODIFIED:20250903T192954Z
UID:26874-1758010500-1758012300@www.handaleprimary.co.uk
SUMMARY:Books for Breakfast Year 3 and Year 4
DESCRIPTION:Parents and Children are invited to attend from 8:15am in the school hall.
URL:https://www.handaleprimary.co.uk/event/books-for-breakfast-year-3-and-year-4/
END:VEVENT
BEGIN:VEVENT
DTSTART;TZID=Europe/London:20250917T081500
DTEND;TZID=Europe/London:20250917T084500
DTSTAMP:20260420T073613
CREATED:20250903T192718Z
LAST-MODIFIED:20250903T192742Z
UID:26871-1758096900-1758098700@www.handaleprimary.co.uk
SUMMARY:Books for Breakfast for Year 5 and Year 6
DESCRIPTION:All parents and children are welcome to attend from 8:15am in the school hall.
URL:https://www.handaleprimary.co.uk/event/books-for-breakfast-for-year-2-year-3-and-year-4/
END:VEVENT
BEGIN:VEVENT
DTSTART;TZID=Europe/London:20250918T100000
DTEND;TZID=Europe/London:20250918T143000
DTSTAMP:20260420T073613
CREATED:20250903T193051Z
LAST-MODIFIED:20250903T193051Z
UID:26876-1758189600-1758205800@www.handaleprimary.co.uk
SUMMARY:Cross Country Event Key Stage 2
DESCRIPTION:
URL:https://www.handaleprimary.co.uk/event/cross-country-event-key-stage-2/
END:VEVENT
BEGIN:VEVENT
DTSTART;TZID=Europe/London:20250924T090000
DTEND;TZID=Europe/London:20250924T100000
DTSTAMP:20260420T073614
CREATED:20250903T194007Z
LAST-MODIFIED:20250903T194007Z
UID:26886-1758704400-1758708000@www.handaleprimary.co.uk
SUMMARY:Reception Little Wandle Phonic Meeting
DESCRIPTION:Join us to see Phonics teaching in action!
URL:https://www.handaleprimary.co.uk/event/reception-little-wandle-phonic-meeting/
END:VEVENT
BEGIN:VEVENT
DTSTART;TZID=Europe/London:20250925T090000
DTEND;TZID=Europe/London:20250925T130000
DTSTAMP:20260420T073614
CREATED:20250903T193138Z
LAST-MODIFIED:20250903T193138Z
UID:26878-1758790800-1758805200@www.handaleprimary.co.uk
SUMMARY:Boys Tag Rugby Event
DESCRIPTION:
URL:https://www.handaleprimary.co.uk/event/boys-tag-rugby-event/
END:VEVENT
BEGIN:VEVENT
DTSTART;TZID=Europe/London:20250930T103000
DTEND;TZID=Europe/London:20250930T140000
DTSTAMP:20260420T073614
CREATED:20250903T193234Z
LAST-MODIFIED:20250903T193234Z
UID:26880-1759228200-1759240800@www.handaleprimary.co.uk
SUMMARY:Girls Tag Rugby Event
DESCRIPTION:
URL:https://www.handaleprimary.co.uk/event/girls-tag-rugby-event/
END:VEVENT
BEGIN:VEVENT
DTSTART;TZID=Europe/London:20251001T090000
DTEND;TZID=Europe/London:20251001T100000
DTSTAMP:20260420T073614
CREATED:20250903T194100Z
LAST-MODIFIED:20250903T194100Z
UID:26889-1759309200-1759312800@www.handaleprimary.co.uk
SUMMARY:Year 1 Little Wandle Phonics Parent Meeting
DESCRIPTION:Join us to see Phonics Teaching live in action!
URL:https://www.handaleprimary.co.uk/event/year-1-little-wandle-phonics-parent-meeting/
END:VEVENT
BEGIN:VEVENT
DTSTART;VALUE=DATE:20251007
DTEND;VALUE=DATE:20251008
DTSTAMP:20260420T073614
CREATED:20250903T193308Z
LAST-MODIFIED:20250903T193308Z
UID:26882-1759795200-1759881599@www.handaleprimary.co.uk
SUMMARY:Year 6 Game of Life Day
DESCRIPTION:
URL:https://www.handaleprimary.co.uk/event/year-6-game-of-life-day/
END:VEVENT
BEGIN:VEVENT
DTSTART;TZID=Europe/London:20251103T080000
DTEND;TZID=Europe/London:20251103T160000
DTSTAMP:20260420T073614
CREATED:20251026T052106Z
LAST-MODIFIED:20251026T052106Z
UID:26929-1762156800-1762185600@www.handaleprimary.co.uk
SUMMARY:PD Day
DESCRIPTION:Teaching Training Day
URL:https://www.handaleprimary.co.uk/event/pd-day-4/
END:VEVENT
BEGIN:VEVENT
DTSTART;TZID=Europe/London:20251104T083000
DTEND;TZID=Europe/London:20251104T153000
DTSTAMP:20260420T073614
CREATED:20251026T052308Z
LAST-MODIFIED:20251026T052308Z
UID:26931-1762245000-1762270200@www.handaleprimary.co.uk
SUMMARY:Knowledge Day
DESCRIPTION:
URL:https://www.handaleprimary.co.uk/event/knowledge-day/
END:VEVENT
END:VCALENDAR