   BEGIN:VCALENDAR
VERSION:2.0
PRODID:-//Handale Primary - ECPv6.15.20//NONSGML v1.0//EN
CALSCALE:GREGORIAN
METHOD:PUBLISH
X-WR-CALNAME:Handale Primary
X-ORIGINAL-URL:https://www.handaleprimary.co.uk
X-WR-CALDESC:Events for Handale Primary
REFRESH-INTERVAL;VALUE=DURATION:PT1H
X-Robots-Tag:noindex
X-PUBLISHED-TTL:PT1H
BEGIN:VTIMEZONE
TZID:Europe/London
BEGIN:DAYLIGHT
TZOFFSETFROM:+0000
TZOFFSETTO:+0100
TZNAME:BST
DTSTART:20170326T010000
END:DAYLIGHT
BEGIN:STANDARD
TZOFFSETFROM:+0100
TZOFFSETTO:+0000
TZNAME:GMT
DTSTART:20171029T010000
END:STANDARD
BEGIN:DAYLIGHT
TZOFFSETFROM:+0000
TZOFFSETTO:+0100
TZNAME:BST
DTSTART:20180325T010000
END:DAYLIGHT
BEGIN:STANDARD
TZOFFSETFROM:+0100
TZOFFSETTO:+0000
TZNAME:GMT
DTSTART:20181028T010000
END:STANDARD
BEGIN:DAYLIGHT
TZOFFSETFROM:+0000
TZOFFSETTO:+0100
TZNAME:BST
DTSTART:20190331T010000
END:DAYLIGHT
BEGIN:STANDARD
TZOFFSETFROM:+0100
TZOFFSETTO:+0000
TZNAME:GMT
DTSTART:20191027T010000
END:STANDARD
BEGIN:DAYLIGHT
TZOFFSETFROM:+0000
TZOFFSETTO:+0100
TZNAME:BST
DTSTART:20200329T010000
END:DAYLIGHT
BEGIN:STANDARD
TZOFFSETFROM:+0100
TZOFFSETTO:+0000
TZNAME:GMT
DTSTART:20201025T010000
END:STANDARD
BEGIN:DAYLIGHT
TZOFFSETFROM:+0000
TZOFFSETTO:+0100
TZNAME:BST
DTSTART:20210328T010000
END:DAYLIGHT
BEGIN:STANDARD
TZOFFSETFROM:+0100
TZOFFSETTO:+0000
TZNAME:GMT
DTSTART:20211031T010000
END:STANDARD
BEGIN:DAYLIGHT
TZOFFSETFROM:+0000
TZOFFSETTO:+0100
TZNAME:BST
DTSTART:20220327T010000
END:DAYLIGHT
BEGIN:STANDARD
TZOFFSETFROM:+0100
TZOFFSETTO:+0000
TZNAME:GMT
DTSTART:20221030T010000
END:STANDARD
BEGIN:DAYLIGHT
TZOFFSETFROM:+0000
TZOFFSETTO:+0100
TZNAME:BST
DTSTART:20230326T010000
END:DAYLIGHT
BEGIN:STANDARD
TZOFFSETFROM:+0100
TZOFFSETTO:+0000
TZNAME:GMT
DTSTART:20231029T010000
END:STANDARD
END:VTIMEZONE
BEGIN:VEVENT
DTSTART;VALUE=DATE:20220615
DTEND;VALUE=DATE:20220616
DTSTAMP:20260420T180217
CREATED:20220523T152923Z
LAST-MODIFIED:20220523T152923Z
UID:19550-1655251200-1655337599@www.handaleprimary.co.uk
SUMMARY:Nursery Playday
DESCRIPTION:Parents will receive a letter from Mrs Lister with more information. \n10.30am for morning nursery parents and 2-3pm for afternoon nursery parents.
URL:https://www.handaleprimary.co.uk/event/nursery-playday/
END:VEVENT
BEGIN:VEVENT
DTSTART;VALUE=DATE:20220610
DTEND;VALUE=DATE:20220611
DTSTAMP:20260420T180217
CREATED:20220523T152703Z
LAST-MODIFIED:20220523T152703Z
UID:19545-1654819200-1654905599@www.handaleprimary.co.uk
SUMMARY:Year 5/6 Football
DESCRIPTION:Selected children from Year 5 and Year 6 will be participating in a football competition for 2 days.
URL:https://www.handaleprimary.co.uk/event/year-5-6-football-2/
END:VEVENT
BEGIN:VEVENT
DTSTART;TZID=Europe/London:20220609T163000
DTEND;TZID=Europe/London:20220609T180000
DTSTAMP:20260420T180217
CREATED:20220523T153146Z
LAST-MODIFIED:20220523T153146Z
UID:19553-1654792200-1654797600@www.handaleprimary.co.uk
SUMMARY:Bingo Evening
DESCRIPTION:Bingo evening organised ‘Friends of Handale’
URL:https://www.handaleprimary.co.uk/event/bingo-evening/
END:VEVENT
BEGIN:VEVENT
DTSTART;VALUE=DATE:20220609
DTEND;VALUE=DATE:20220610
DTSTAMP:20260420T180217
CREATED:20220523T152627Z
LAST-MODIFIED:20220523T152627Z
UID:19542-1654732800-1654819199@www.handaleprimary.co.uk
SUMMARY:Year 5/6 Football
DESCRIPTION:Selected children from Year 5 and Year 6 will be participating in a football competition for 2 days.
URL:https://www.handaleprimary.co.uk/event/year-5-6-football/
END:VEVENT
BEGIN:VEVENT
DTSTART;TZID=Europe/London:20220608T140000
DTEND;TZID=Europe/London:20220608T143000
DTSTAMP:20260420T180217
CREATED:20220523T152513Z
LAST-MODIFIED:20220523T152513Z
UID:19540-1654696800-1654698600@www.handaleprimary.co.uk
SUMMARY:Year 5 Class Assembly
DESCRIPTION:Parents are invited to the Year 5 class assembly @ 2pm.
URL:https://www.handaleprimary.co.uk/event/year-5-class-assembly/
END:VEVENT
BEGIN:VEVENT
DTSTART;VALUE=DATE:20220606
DTEND;VALUE=DATE:20220607
DTSTAMP:20260420T180217
CREATED:20220523T152405Z
LAST-MODIFIED:20220523T152405Z
UID:19535-1654473600-1654559999@www.handaleprimary.co.uk
SUMMARY:Return to school after half term
DESCRIPTION:
URL:https://www.handaleprimary.co.uk/event/return-to-school-after-half-term/
END:VEVENT
BEGIN:VEVENT
DTSTART;VALUE=DATE:20220527
DTEND;VALUE=DATE:20220528
DTSTAMP:20260420T180217
CREATED:20220523T152340Z
LAST-MODIFIED:20220523T152340Z
UID:19529-1653609600-1653695999@www.handaleprimary.co.uk
SUMMARY:Half Term
DESCRIPTION:
URL:https://www.handaleprimary.co.uk/event/half-term/
END:VEVENT
BEGIN:VEVENT
DTSTART;VALUE=DATE:20220527
DTEND;VALUE=DATE:20220528
DTSTAMP:20260420T180217
CREATED:20220523T152311Z
LAST-MODIFIED:20220523T152311Z
UID:19525-1653609600-1653695999@www.handaleprimary.co.uk
SUMMARY:Queen's Jubilee event in School
DESCRIPTION:Children will engage in a range of activities on the morning in school linked to the Queen’s Jubilee and then have a BBQ for lunch.
URL:https://www.handaleprimary.co.uk/event/queens-jubilee-event-in-school/
END:VEVENT
BEGIN:VEVENT
DTSTART;TZID=Europe/London:20220526T140000
DTEND;TZID=Europe/London:20220526T143000
DTSTAMP:20260420T180217
CREATED:20220523T152151Z
LAST-MODIFIED:20220523T152151Z
UID:19523-1653573600-1653575400@www.handaleprimary.co.uk
SUMMARY:Reception Class Assembly
DESCRIPTION:Parents are invited to watch the Reception class assembly @2pm.
URL:https://www.handaleprimary.co.uk/event/reception-class-assembly/
END:VEVENT
BEGIN:VEVENT
DTSTART;TZID=Europe/London:20220523T084500
DTEND;TZID=Europe/London:20220523T093000
DTSTAMP:20260420T180217
CREATED:20220523T152031Z
LAST-MODIFIED:20220523T152031Z
UID:19521-1653295500-1653298200@www.handaleprimary.co.uk
SUMMARY:Nursery/Pre-Nursery Class Photos
DESCRIPTION:Please see the letter sent out by Mrs Lister on 23.5.2022 for more details.
URL:https://www.handaleprimary.co.uk/event/nursery-pre-nursery-class-photos/
END:VEVENT
BEGIN:VEVENT
DTSTART;VALUE=DATE:20180720
DTEND;VALUE=DATE:20180721
DTSTAMP:20260420T180217
CREATED:20180712T124754Z
LAST-MODIFIED:20180712T124936Z
UID:1077-1532044800-1532131199@www.handaleprimary.co.uk
SUMMARY:Last Day of Term
DESCRIPTION:
URL:https://www.handaleprimary.co.uk/event/last-day-of-term/
END:VEVENT
BEGIN:VEVENT
DTSTART;TZID=Europe/London:20180718T130000
DTEND;TZID=Europe/London:20180718T150000
DTSTAMP:20260420T180217
CREATED:20180618T200231Z
LAST-MODIFIED:20180618T200231Z
UID:881-1531918800-1531926000@www.handaleprimary.co.uk
SUMMARY:Handale School Fair
DESCRIPTION:
URL:https://www.handaleprimary.co.uk/event/handale-school-fair/
END:VEVENT
BEGIN:VEVENT
DTSTART;TZID=Europe/London:20180718T080000
DTEND;TZID=Europe/London:20180718T170000
DTSTAMP:20260420T180217
CREATED:20180611T095049Z
LAST-MODIFIED:20180611T095049Z
UID:869-1531900800-1531933200@www.handaleprimary.co.uk
SUMMARY:School Summer Fair
DESCRIPTION:
URL:https://www.handaleprimary.co.uk/event/school-summer-fair/
END:VEVENT
BEGIN:VEVENT
DTSTART;VALUE=DATE:20180620
DTEND;VALUE=DATE:20180621
DTSTAMP:20260420T180217
CREATED:20180618T121718Z
LAST-MODIFIED:20180618T121718Z
UID:876-1529452800-1529539199@www.handaleprimary.co.uk
SUMMARY:Test Event Claire
DESCRIPTION:
URL:https://www.handaleprimary.co.uk/event/test-event-claire/
END:VEVENT
BEGIN:VEVENT
DTSTART;TZID=Europe/London:20180617T080000
DTEND;TZID=Europe/London:20180617T170000
DTSTAMP:20260420T180217
CREATED:20180529T134320Z
LAST-MODIFIED:20180529T134320Z
UID:836-1529222400-1529254800@www.handaleprimary.co.uk
SUMMARY:Fathers Day
DESCRIPTION:
URL:https://www.handaleprimary.co.uk/event/fathers-day/
END:VEVENT
END:VCALENDAR