   BEGIN:VCALENDAR
VERSION:2.0
PRODID:-//Handale Primary - ECPv6.15.20//NONSGML v1.0//EN
CALSCALE:GREGORIAN
METHOD:PUBLISH
X-WR-CALNAME:Handale Primary
X-ORIGINAL-URL:https://www.handaleprimary.co.uk
X-WR-CALDESC:Events for Handale Primary
REFRESH-INTERVAL;VALUE=DURATION:PT1H
X-Robots-Tag:noindex
X-PUBLISHED-TTL:PT1H
BEGIN:VTIMEZONE
TZID:Europe/London
BEGIN:DAYLIGHT
TZOFFSETFROM:+0000
TZOFFSETTO:+0100
TZNAME:BST
DTSTART:20250330T010000
END:DAYLIGHT
BEGIN:STANDARD
TZOFFSETFROM:+0100
TZOFFSETTO:+0000
TZNAME:GMT
DTSTART:20251026T010000
END:STANDARD
BEGIN:DAYLIGHT
TZOFFSETFROM:+0000
TZOFFSETTO:+0100
TZNAME:BST
DTSTART:20260329T010000
END:DAYLIGHT
BEGIN:STANDARD
TZOFFSETFROM:+0100
TZOFFSETTO:+0000
TZNAME:GMT
DTSTART:20261025T010000
END:STANDARD
BEGIN:DAYLIGHT
TZOFFSETFROM:+0000
TZOFFSETTO:+0100
TZNAME:BST
DTSTART:20270328T010000
END:DAYLIGHT
BEGIN:STANDARD
TZOFFSETFROM:+0100
TZOFFSETTO:+0000
TZNAME:GMT
DTSTART:20271031T010000
END:STANDARD
END:VTIMEZONE
BEGIN:VEVENT
DTSTART;VALUE=DATE:20260106
DTEND;VALUE=DATE:20260107
DTSTAMP:20260420T074043
CREATED:20260102T203449Z
LAST-MODIFIED:20260102T203449Z
UID:27247-1767657600-1767743999@www.handaleprimary.co.uk
SUMMARY:Children back at school
DESCRIPTION:
URL:https://www.handaleprimary.co.uk/event/children-back-at-school/
END:VEVENT
BEGIN:VEVENT
DTSTART;TZID=Europe/London:20260112T151500
DTEND;TZID=Europe/London:20260112T154500
DTSTAMP:20260420T074043
CREATED:20260102T203543Z
LAST-MODIFIED:20260102T203543Z
UID:27249-1768230900-1768232700@www.handaleprimary.co.uk
SUMMARY:Peat Rigg Parent Meeting
DESCRIPTION:Meet in the school hall
URL:https://www.handaleprimary.co.uk/event/peat-rigg-parent-meeting/
END:VEVENT
BEGIN:VEVENT
DTSTART;TZID=Europe/London:20260120T081500
DTEND;TZID=Europe/London:20260120T084500
DTSTAMP:20260420T074043
CREATED:20260102T203634Z
LAST-MODIFIED:20260102T203634Z
UID:27251-1768896900-1768898700@www.handaleprimary.co.uk
SUMMARY:Books for Breakfast for Early Years and Year 1
DESCRIPTION:
URL:https://www.handaleprimary.co.uk/event/books-for-breakfast-for-early-years-and-year-1/
END:VEVENT
BEGIN:VEVENT
DTSTART;VALUE=DATE:20260121
DTEND;VALUE=DATE:20260124
DTSTAMP:20260420T074043
CREATED:20260102T203707Z
LAST-MODIFIED:20260102T203707Z
UID:27253-1768953600-1769212799@www.handaleprimary.co.uk
SUMMARY:Peat Rigg Residential
DESCRIPTION:
URL:https://www.handaleprimary.co.uk/event/peat-rigg-residential/
END:VEVENT
BEGIN:VEVENT
DTSTART;TZID=Europe/London:20260128T081500
DTEND;TZID=Europe/London:20260128T084500
DTSTAMP:20260420T074043
CREATED:20260102T203744Z
LAST-MODIFIED:20260102T203744Z
UID:27255-1769588100-1769589900@www.handaleprimary.co.uk
SUMMARY:Books for Breakfast
DESCRIPTION:
URL:https://www.handaleprimary.co.uk/event/books-for-breakfast/
END:VEVENT
BEGIN:VEVENT
DTSTART;TZID=Europe/London:20260204T081500
DTEND;TZID=Europe/London:20260204T084500
DTSTAMP:20260420T074043
CREATED:20260102T203820Z
LAST-MODIFIED:20260102T203820Z
UID:27257-1770192900-1770194700@www.handaleprimary.co.uk
SUMMARY:Books for Breakfast Year 5 and 6
DESCRIPTION:
URL:https://www.handaleprimary.co.uk/event/books-for-breakfast-year-5-and-6/
END:VEVENT
BEGIN:VEVENT
DTSTART;TZID=Europe/London:20260218T141500
DTEND;TZID=Europe/London:20260218T150000
DTSTAMP:20260420T074043
CREATED:20260102T203954Z
LAST-MODIFIED:20260102T203954Z
UID:27261-1771424100-1771426800@www.handaleprimary.co.uk
SUMMARY:Parent Event
DESCRIPTION:Parents invited in for a curriculum event
URL:https://www.handaleprimary.co.uk/event/parent-event/
END:VEVENT
END:VCALENDAR