   BEGIN:VCALENDAR
VERSION:2.0
PRODID:-//Handale Primary - ECPv6.15.20//NONSGML v1.0//EN
CALSCALE:GREGORIAN
METHOD:PUBLISH
X-ORIGINAL-URL:https://www.handaleprimary.co.uk
X-WR-CALDESC:Events for Handale Primary
REFRESH-INTERVAL;VALUE=DURATION:PT1H
X-Robots-Tag:noindex
X-PUBLISHED-TTL:PT1H
BEGIN:VTIMEZONE
TZID:Europe/London
BEGIN:DAYLIGHT
TZOFFSETFROM:+0000
TZOFFSETTO:+0100
TZNAME:BST
DTSTART:20220327T010000
END:DAYLIGHT
BEGIN:STANDARD
TZOFFSETFROM:+0100
TZOFFSETTO:+0000
TZNAME:GMT
DTSTART:20221030T010000
END:STANDARD
BEGIN:DAYLIGHT
TZOFFSETFROM:+0000
TZOFFSETTO:+0100
TZNAME:BST
DTSTART:20230326T010000
END:DAYLIGHT
BEGIN:STANDARD
TZOFFSETFROM:+0100
TZOFFSETTO:+0000
TZNAME:GMT
DTSTART:20231029T010000
END:STANDARD
BEGIN:DAYLIGHT
TZOFFSETFROM:+0000
TZOFFSETTO:+0100
TZNAME:BST
DTSTART:20240331T010000
END:DAYLIGHT
BEGIN:STANDARD
TZOFFSETFROM:+0100
TZOFFSETTO:+0000
TZNAME:GMT
DTSTART:20241027T010000
END:STANDARD
BEGIN:DAYLIGHT
TZOFFSETFROM:+0000
TZOFFSETTO:+0100
TZNAME:BST
DTSTART:20250330T010000
END:DAYLIGHT
BEGIN:STANDARD
TZOFFSETFROM:+0100
TZOFFSETTO:+0000
TZNAME:GMT
DTSTART:20251026T010000
END:STANDARD
END:VTIMEZONE
BEGIN:VEVENT
DTSTART;TZID=Europe/London:20231201T150000
DTEND;TZID=Europe/London:20231201T160000
DTSTAMP:20260420T230845
CREATED:20231127T143347Z
LAST-MODIFIED:20231127T143347Z
UID:25719-1701442800-1701446400@www.handaleprimary.co.uk
SUMMARY:Mini Christmas Craft Sale
DESCRIPTION:
URL:https://www.handaleprimary.co.uk/event/mini-christmas-craft-sale/
END:VEVENT
BEGIN:VEVENT
DTSTART;VALUE=DATE:20231214
DTEND;VALUE=DATE:20231215
DTSTAMP:20260420T230845
CREATED:20231127T143532Z
LAST-MODIFIED:20231127T143532Z
UID:25723-1702512000-1702598399@www.handaleprimary.co.uk
SUMMARY:Christmas Dinner in School -  Christmas jumper day
DESCRIPTION:
URL:https://www.handaleprimary.co.uk/event/christmas-dinner-in-school-christmas-jumper-day/
END:VEVENT
BEGIN:VEVENT
DTSTART;TZID=Europe/London:20231214T163000
DTEND;TZID=Europe/London:20231214T183000
DTSTAMP:20260420T230845
CREATED:20231127T143618Z
LAST-MODIFIED:20231127T143618Z
UID:25725-1702571400-1702578600@www.handaleprimary.co.uk
SUMMARY:Friends of Handale Bingo Event
DESCRIPTION:
URL:https://www.handaleprimary.co.uk/event/friends-of-handale-bingo-event/
END:VEVENT
BEGIN:VEVENT
DTSTART;VALUE=DATE:20231218
DTEND;VALUE=DATE:20231219
DTSTAMP:20260420T230845
CREATED:20231127T144026Z
LAST-MODIFIED:20231127T144026Z
UID:25727-1702857600-1702943999@www.handaleprimary.co.uk
SUMMARY:Year 1\, 2\, 3 and 4 Christmas Party
DESCRIPTION:children can come to school in their party clothes
URL:https://www.handaleprimary.co.uk/event/year-1-2-3-and-4-christmas-party/
END:VEVENT
BEGIN:VEVENT
DTSTART;TZID=Europe/London:20231218T100000
DTEND;TZID=Europe/London:20231218T110000
DTSTAMP:20260420T230845
CREATED:20231127T144631Z
LAST-MODIFIED:20231127T144631Z
UID:25745-1702893600-1702897200@www.handaleprimary.co.uk
SUMMARY:Nursery and Reception Christmas Performance
DESCRIPTION:
URL:https://www.handaleprimary.co.uk/event/nursery-and-reception-christmas-performance/
END:VEVENT
BEGIN:VEVENT
DTSTART;TZID=Europe/London:20231219T093000
DTEND;TZID=Europe/London:20231219T103000
DTSTAMP:20260420T230845
CREATED:20231127T144703Z
LAST-MODIFIED:20231127T144703Z
UID:25747-1702978200-1702981800@www.handaleprimary.co.uk
SUMMARY:Year 1 and Year 2 Christmas Performance
DESCRIPTION:
URL:https://www.handaleprimary.co.uk/event/year-1-and-year-2-christmas-performance/
END:VEVENT
BEGIN:VEVENT
DTSTART;TZID=Europe/London:20231219T140000
DTEND;TZID=Europe/London:20231219T150000
DTSTAMP:20260420T230845
CREATED:20231127T144740Z
LAST-MODIFIED:20231127T144740Z
UID:25749-1702994400-1702998000@www.handaleprimary.co.uk
SUMMARY:Year 3 and Year 4 Christmas Performance
DESCRIPTION:
URL:https://www.handaleprimary.co.uk/event/year-3-and-year-4-christmas-performance/
END:VEVENT
BEGIN:VEVENT
DTSTART;VALUE=DATE:20231220
DTEND;VALUE=DATE:20231221
DTSTAMP:20260420T230845
CREATED:20231127T144104Z
LAST-MODIFIED:20231127T144104Z
UID:25729-1703030400-1703116799@www.handaleprimary.co.uk
SUMMARY:Nursery Christmas Party
DESCRIPTION:children can come to school in their party clothes
URL:https://www.handaleprimary.co.uk/event/nursery-christmas-party/
END:VEVENT
BEGIN:VEVENT
DTSTART;TZID=Europe/London:20231220T103000
DTEND;TZID=Europe/London:20231220T120000
DTSTAMP:20260420T230845
CREATED:20231127T144858Z
LAST-MODIFIED:20231127T144858Z
UID:25751-1703068200-1703073600@www.handaleprimary.co.uk
SUMMARY:Year 5 and Year 6 Christmas Performance
DESCRIPTION:To be held in St Leonard’s Church in Loftus – Year 5 and Year 6 parents invited.
URL:https://www.handaleprimary.co.uk/event/year-5-and-year-6-christmas-performance/
END:VEVENT
BEGIN:VEVENT
DTSTART;VALUE=DATE:20231221
DTEND;VALUE=DATE:20231222
DTSTAMP:20260420T230845
CREATED:20231127T144137Z
LAST-MODIFIED:20231127T144137Z
UID:25731-1703116800-1703203199@www.handaleprimary.co.uk
SUMMARY:Year 5 and Year6 Christmas Party
DESCRIPTION:children can come to school in their party clothes
URL:https://www.handaleprimary.co.uk/event/year-5-and-year6-christmas-party/
END:VEVENT
BEGIN:VEVENT
DTSTART;TZID=Europe/London:20231225T080000
DTEND;TZID=Europe/London:20240105T170000
DTSTAMP:20260420T230845
CREATED:20231127T144951Z
LAST-MODIFIED:20231127T144951Z
UID:25753-1703491200-1704474000@www.handaleprimary.co.uk
SUMMARY:Christmas Holidays
DESCRIPTION:
URL:https://www.handaleprimary.co.uk/event/christmas-holidays/
END:VEVENT
END:VCALENDAR