   BEGIN:VCALENDAR
VERSION:2.0
PRODID:-//Handale Primary - ECPv6.15.20//NONSGML v1.0//EN
CALSCALE:GREGORIAN
METHOD:PUBLISH
X-ORIGINAL-URL:https://www.handaleprimary.co.uk
X-WR-CALDESC:Events for Handale Primary
REFRESH-INTERVAL;VALUE=DURATION:PT1H
X-Robots-Tag:noindex
X-PUBLISHED-TTL:PT1H
BEGIN:VTIMEZONE
TZID:Europe/London
BEGIN:DAYLIGHT
TZOFFSETFROM:+0000
TZOFFSETTO:+0100
TZNAME:BST
DTSTART:20230326T010000
END:DAYLIGHT
BEGIN:STANDARD
TZOFFSETFROM:+0100
TZOFFSETTO:+0000
TZNAME:GMT
DTSTART:20231029T010000
END:STANDARD
BEGIN:DAYLIGHT
TZOFFSETFROM:+0000
TZOFFSETTO:+0100
TZNAME:BST
DTSTART:20240331T010000
END:DAYLIGHT
BEGIN:STANDARD
TZOFFSETFROM:+0100
TZOFFSETTO:+0000
TZNAME:GMT
DTSTART:20241027T010000
END:STANDARD
BEGIN:DAYLIGHT
TZOFFSETFROM:+0000
TZOFFSETTO:+0100
TZNAME:BST
DTSTART:20250330T010000
END:DAYLIGHT
BEGIN:STANDARD
TZOFFSETFROM:+0100
TZOFFSETTO:+0000
TZNAME:GMT
DTSTART:20251026T010000
END:STANDARD
END:VTIMEZONE
BEGIN:VEVENT
DTSTART;VALUE=DATE:20240506
DTEND;VALUE=DATE:20240507
DTSTAMP:20260420T123205
CREATED:20231127T153649Z
LAST-MODIFIED:20231127T153649Z
UID:25763-1714953600-1715039999@www.handaleprimary.co.uk
SUMMARY:Bank Holiday
DESCRIPTION:
URL:https://www.handaleprimary.co.uk/event/bank-holiday/
END:VEVENT
BEGIN:VEVENT
DTSTART;TZID=Europe/London:20240523T143000
DTEND;TZID=Europe/London:20240523T150000
DTSTAMP:20260420T123205
CREATED:20231127T144236Z
LAST-MODIFIED:20231127T144236Z
UID:25733-1716474600-1716476400@www.handaleprimary.co.uk
SUMMARY:Year 5 Class assembly - parents invited
DESCRIPTION:
URL:https://www.handaleprimary.co.uk/event/year-5-class-assembly-parents-invited/
END:VEVENT
BEGIN:VEVENT
DTSTART;VALUE=DATE:20240527
DTEND;VALUE=DATE:20240601
DTSTAMP:20260420T123205
CREATED:20231127T153728Z
LAST-MODIFIED:20231127T153728Z
UID:25765-1716768000-1717199999@www.handaleprimary.co.uk
SUMMARY:May Half Term
DESCRIPTION:
URL:https://www.handaleprimary.co.uk/event/may-half-term/
END:VEVENT
END:VCALENDAR