   BEGIN:VCALENDAR
VERSION:2.0
PRODID:-//Handale Primary - ECPv6.15.20//NONSGML v1.0//EN
CALSCALE:GREGORIAN
METHOD:PUBLISH
X-WR-CALNAME:Handale Primary
X-ORIGINAL-URL:https://www.handaleprimary.co.uk
X-WR-CALDESC:Events for Handale Primary
REFRESH-INTERVAL;VALUE=DURATION:PT1H
X-Robots-Tag:noindex
X-PUBLISHED-TTL:PT1H
BEGIN:VTIMEZONE
TZID:Europe/London
BEGIN:DAYLIGHT
TZOFFSETFROM:+0000
TZOFFSETTO:+0100
TZNAME:BST
DTSTART:20240331T010000
END:DAYLIGHT
BEGIN:STANDARD
TZOFFSETFROM:+0100
TZOFFSETTO:+0000
TZNAME:GMT
DTSTART:20241027T010000
END:STANDARD
BEGIN:DAYLIGHT
TZOFFSETFROM:+0000
TZOFFSETTO:+0100
TZNAME:BST
DTSTART:20250330T010000
END:DAYLIGHT
BEGIN:STANDARD
TZOFFSETFROM:+0100
TZOFFSETTO:+0000
TZNAME:GMT
DTSTART:20251026T010000
END:STANDARD
BEGIN:DAYLIGHT
TZOFFSETFROM:+0000
TZOFFSETTO:+0100
TZNAME:BST
DTSTART:20260329T010000
END:DAYLIGHT
BEGIN:STANDARD
TZOFFSETFROM:+0100
TZOFFSETTO:+0000
TZNAME:GMT
DTSTART:20261025T010000
END:STANDARD
END:VTIMEZONE
BEGIN:VEVENT
DTSTART;TZID=Europe/London:20251103T080000
DTEND;TZID=Europe/London:20251103T160000
DTSTAMP:20260420T123141
CREATED:20251026T052106Z
LAST-MODIFIED:20251026T052106Z
UID:26929-1762156800-1762185600@www.handaleprimary.co.uk
SUMMARY:PD Day
DESCRIPTION:Teaching Training Day
URL:https://www.handaleprimary.co.uk/event/pd-day-4/
END:VEVENT
BEGIN:VEVENT
DTSTART;TZID=Europe/London:20251104T083000
DTEND;TZID=Europe/London:20251104T153000
DTSTAMP:20260420T123141
CREATED:20251026T052308Z
LAST-MODIFIED:20251026T052308Z
UID:26931-1762245000-1762270200@www.handaleprimary.co.uk
SUMMARY:Knowledge Day
DESCRIPTION:
URL:https://www.handaleprimary.co.uk/event/knowledge-day/
END:VEVENT
BEGIN:VEVENT
DTSTART;TZID=Europe/London:20251104T083000
DTEND;TZID=Europe/London:20251104T153000
DTSTAMP:20260420T123141
CREATED:20251026T052340Z
LAST-MODIFIED:20251026T052340Z
UID:26933-1762245000-1762270200@www.handaleprimary.co.uk
SUMMARY:Year 2 School Trip
DESCRIPTION:Life Centre
URL:https://www.handaleprimary.co.uk/event/year-2-school-trip/
END:VEVENT
BEGIN:VEVENT
DTSTART;TZID=Europe/London:20251105T083000
DTEND;TZID=Europe/London:20251105T153000
DTSTAMP:20260420T123141
CREATED:20251026T052428Z
LAST-MODIFIED:20251026T052428Z
UID:26935-1762331400-1762356600@www.handaleprimary.co.uk
SUMMARY:Bonfire Night
DESCRIPTION:Whole school activities
URL:https://www.handaleprimary.co.uk/event/bonfire-night/
END:VEVENT
BEGIN:VEVENT
DTSTART;TZID=Europe/London:20251105T083000
DTEND;TZID=Europe/London:20251115T153000
DTSTAMP:20260420T123141
CREATED:20251026T052952Z
LAST-MODIFIED:20251026T054103Z
UID:26943-1762331400-1763220600@www.handaleprimary.co.uk
SUMMARY:Individual School Photos
DESCRIPTION:
URL:https://www.handaleprimary.co.uk/event/individual-school-photos/
END:VEVENT
BEGIN:VEVENT
DTSTART;TZID=Europe/London:20251106T120000
DTEND;TZID=Europe/London:20251106T130000
DTSTAMP:20260420T123141
CREATED:20251026T052529Z
LAST-MODIFIED:20251026T052529Z
UID:26937-1762430400-1762434000@www.handaleprimary.co.uk
SUMMARY:Bonfire Themed School Lunch
DESCRIPTION:If your child is on packed lunch and want to have a dinner in school to celebrate on this day\, please see Mrs Rowe in the office.
URL:https://www.handaleprimary.co.uk/event/bonfire-themed-school-lunch/
END:VEVENT
BEGIN:VEVENT
DTSTART;TZID=Europe/London:20251112T083000
DTEND;TZID=Europe/London:20251112T100000
DTSTAMP:20260420T123141
CREATED:20251026T052704Z
LAST-MODIFIED:20251026T052704Z
UID:26939-1762936200-1762941600@www.handaleprimary.co.uk
SUMMARY:Early Years Parents Maths Stay and Play
DESCRIPTION:The event will start in the school hall at 8:30am. Parents will then go and see Maths live in action in the learning envionment.
URL:https://www.handaleprimary.co.uk/event/early-years-parents-maths-stay-and-play/
END:VEVENT
BEGIN:VEVENT
DTSTART;TZID=Europe/London:20251125T083000
DTEND;TZID=Europe/London:20251125T120000
DTSTAMP:20260420T123141
CREATED:20251026T052853Z
LAST-MODIFIED:20251026T052853Z
UID:26941-1764059400-1764072000@www.handaleprimary.co.uk
SUMMARY:Pre Nursery and Nursery Trip
DESCRIPTION:Our wonderful Pre Nursery and Nursery children will be visiting the play factory this day.
URL:https://www.handaleprimary.co.uk/event/pre-nursery-and-nursery-trip/
END:VEVENT
END:VCALENDAR